BEGIN:VCALENDAR
VERSION:2.0
PRODID:-//Techdow USA - ECPv6.15.20//NONSGML v1.0//EN
CALSCALE:GREGORIAN
METHOD:PUBLISH
X-WR-CALNAME:Techdow USA
X-ORIGINAL-URL:https://techdowusa.com
X-WR-CALDESC:Events for Techdow USA
REFRESH-INTERVAL;VALUE=DURATION:PT1H
X-Robots-Tag:noindex
X-PUBLISHED-TTL:PT1H
BEGIN:VTIMEZONE
TZID:UTC
BEGIN:STANDARD
TZOFFSETFROM:+0000
TZOFFSETTO:+0000
TZNAME:UTC
DTSTART:20220101T000000
END:STANDARD
END:VTIMEZONE
BEGIN:VEVENT
DTSTART;VALUE=DATE:20230425
DTEND;VALUE=DATE:20230428
DTSTAMP:20260421T100644
CREATED:20230208T060810Z
LAST-MODIFIED:20230208T061726Z
UID:10000008-1682380800-1682639999@techdowusa.com
SUMMARY:CPHI North America
DESCRIPTION:
URL:https://techdowusa.com/event/cphi-north-america/
LOCATION:Philadelphia\, PA
END:VEVENT
END:VCALENDAR